View In:
ArcGIS JavaScript
ArcGIS Online Map Viewer
ArcGIS Earth
ArcMap
View Footprint In:
ArcGIS Online Map Viewer
Service Description: visibilité des éoliennes dans un rayon de 20 km
Name: eolien/viewshed_eolien_mai24
Description: visibilité des éoliennes dans un rayon de 20 km
Single Fused Map Cache: false
Extent:
XMin: 579400.5
YMin: 6857516.5
XMax: 796990.5
YMax: 7114311.5
Spatial Reference: 102110
(2154)
Initial Extent:
XMin: 579400.5
YMin: 6857516.5
XMax: 796990.5
YMax: 7114311.5
Spatial Reference: 102110
(2154)
Full Extent:
XMin: 579400.5
YMin: 6857516.5
XMax: 796990.5
YMax: 7114311.5
Spatial Reference: 102110
(2154)
Pixel Size X: 5.0
Pixel Size Y: 5.0
Band Count: 1
Pixel Type: F32
RasterFunction Infos: {"rasterFunctionInfos": [{
"name": "None",
"description": "",
"help": ""
}]}
Mensuration Capabilities: Basic
Has Histograms: true
Has Colormap: false
Has Multi Dimensions : false
Rendering Rule:
Min Scale: 0
Max Scale: 0
Copyright Text: Conseil régional des Hauts-de-France
Service Data Type: esriImageServiceDataTypeGeneric
Min Values: 0
Max Values: 314
Mean Values: 9.52471855010235
Standard Deviation Values: 24.34647385059422
Object ID Field:
Fields:
None
Default Mosaic Method: Center
Allowed Mosaic Methods:
SortField:
SortValue: null
Mosaic Operator: First
Default Compression Quality: 75
Default Resampling Method: Bilinear
Max Record Count: null
Max Image Height: 4100
Max Image Width: 15000
Max Download Image Count: null
Max Mosaic Image Count: null
Allow Raster Function: true
Allow Copy: null
Allow Analysis: null
Allow Compute TiePoints: false
Supports Statistics: false
Supports Advanced Queries: false
Use StandardizedQueries: true
Raster Type Infos:
Name: Raster Dataset
Description: Supports all ArcGIS Raster Datasets
Help:
Has Raster Attribute Table: false
Edit Fields Info: null
Ownership Based AccessControl For Rasters: null
Child Resources:
Info
Histograms
Key Properties
Legend
Raster Function Infos
Supported Operations:
Export Image
Identify
Measure
Compute Histograms
Compute Statistics Histograms
Get Samples
Compute Class Statistics
Query Boundary
Compute Pixel Location
Compute Angles
Validate
Project