{
 "currentVersion": 10.91,
 "serviceDescription": "visibilité des éoliennes dans un rayon de 20 km",
 "name": "eolien/viewshed_eolien_mai24",
 "description": "visibilité des éoliennes dans un rayon de 20 km",
 "extent": {
  "xmin": 579400.5,
  "ymin": 6857516.5,
  "xmax": 796990.5,
  "ymax": 7114311.5,
  "spatialReference": {
   "wkid": 102110,
   "latestWkid": 2154
  }
 },
 "initialExtent": {
  "xmin": 579400.5,
  "ymin": 6857516.5,
  "xmax": 796990.5,
  "ymax": 7114311.5,
  "spatialReference": {
   "wkid": 102110,
   "latestWkid": 2154
  }
 },
 "fullExtent": {
  "xmin": 579400.5,
  "ymin": 6857516.5,
  "xmax": 796990.5,
  "ymax": 7114311.5,
  "spatialReference": {
   "wkid": 102110,
   "latestWkid": 2154
  }
 },
 "pixelSizeX": 5,
 "pixelSizeY": 5,
 "bandCount": 1,
 "pixelType": "F32",
 "minPixelSize": 0,
 "maxPixelSize": 0,
 "copyrightText": "Conseil régional des Hauts-de-France",
 "serviceDataType": "esriImageServiceDataTypeGeneric",
 "minValues": [
  0
 ],
 "maxValues": [
  314
 ],
 "meanValues": [
  9.52471855010235
 ],
 "stdvValues": [
  24.34647385059422
 ],
 "objectIdField": "",
 "fields": [],
 "capabilities": "Image,Mensuration,Metadata,Tilemap",
 "defaultMosaicMethod": "Center",
 "allowedMosaicMethods": "",
 "sortField": "",
 "sortValue": null,
 "sortAscending": true,
 "mosaicOperator": "First",
 "defaultCompressionQuality": 75,
 "defaultResamplingMethod": "Bilinear",
 "maxImageHeight": 4100,
 "maxImageWidth": 15000,
 "allowRasterFunction": true,
 "rasterFunctionInfos": [
  {
   "name": "None",
   "description": "",
   "help": ""
  }
 ],
 "rasterTypeInfos": [
  {
   "name": "Raster Dataset",
   "description": "Supports all ArcGIS Raster Datasets",
   "help": ""
  }
 ],
 "mensurationCapabilities": "Basic",
 "hasHistograms": true,
 "hasColormap": false,
 "hasRasterAttributeTable": false,
 "minScale": 0,
 "maxScale": 0,
 "exportTilesAllowed": false,
 "hasMultidimensions": false,
 "supportsStatistics": false,
 "supportsAdvancedQueries": false,
 "editFieldsInfo": null,
 "ownershipBasedAccessControlForRasters": null,
 "allowComputeTiePoints": false,
 "useStandardizedQueries": true,
 "advancedQueryCapabilities": {
  "useStandardizedQueries": true,
  "supportsStatistics": false,
  "supportsOrderBy": false,
  "supportsDistinct": false,
  "supportsPagination": false
 },
 "spatialReference": {
  "wkid": 102110,
  "latestWkid": 2154
 }
}
